BEGIN:VCALENDAR
VERSION:2.0
PRODID:-//Das Wurzelwerk - ECPv6.15.20//NONSGML v1.0//EN
CALSCALE:GREGORIAN
METHOD:PUBLISH
X-ORIGINAL-URL:http://daswurzelwerk.de
X-WR-CALDESC:Veranstaltungen für Das Wurzelwerk
REFRESH-INTERVAL;VALUE=DURATION:PT1H
X-Robots-Tag:noindex
X-PUBLISHED-TTL:PT1H
BEGIN:VTIMEZONE
TZID:Europe/Berlin
BEGIN:DAYLIGHT
TZOFFSETFROM:+0100
TZOFFSETTO:+0200
TZNAME:CEST
DTSTART:20190331T010000
END:DAYLIGHT
BEGIN:STANDARD
TZOFFSETFROM:+0200
TZOFFSETTO:+0100
TZNAME:CET
DTSTART:20191027T010000
END:STANDARD
BEGIN:DAYLIGHT
TZOFFSETFROM:+0100
TZOFFSETTO:+0200
TZNAME:CEST
DTSTART:20200329T010000
END:DAYLIGHT
BEGIN:STANDARD
TZOFFSETFROM:+0200
TZOFFSETTO:+0100
TZNAME:CET
DTSTART:20201025T010000
END:STANDARD
BEGIN:DAYLIGHT
TZOFFSETFROM:+0100
TZOFFSETTO:+0200
TZNAME:CEST
DTSTART:20210328T010000
END:DAYLIGHT
BEGIN:STANDARD
TZOFFSETFROM:+0200
TZOFFSETTO:+0100
TZNAME:CET
DTSTART:20211031T010000
END:STANDARD
END:VTIMEZONE
BEGIN:VEVENT
DTSTART;VALUE=DATE:20200515
DTEND;VALUE=DATE:20200517
DTSTAMP:20260424T154848
CREATED:20190930T183510Z
LAST-MODIFIED:20190930T183510Z
UID:586-1589500800-1589673599@daswurzelwerk.de
SUMMARY:Fahrt nach Eekholt
DESCRIPTION:Fahrt nach Eekholt mit allen 5- & 6-jährigen Kindern. \nTreffpunkt: Parkplatz Drahtenhof \nAlle 3 &#8211; & 4-jährigen Kinder haben am 15.5. frei!
URL:http://daswurzelwerk.de/termin/fahrt-nach-eekholt-2/
CATEGORIES:Ausflug
END:VEVENT
BEGIN:VEVENT
DTSTART;VALUE=DATE:20200522
DTEND;VALUE=DATE:20200523
DTSTAMP:20260424T154848
CREATED:20190930T183213Z
LAST-MODIFIED:20190930T183213Z
UID:583-1590105600-1590191999@daswurzelwerk.de
SUMMARY:Kiga geschlossen
DESCRIPTION:Langes Wochenende für alle! Heute bleibt der Kindergarten geschlossen!
URL:http://daswurzelwerk.de/termin/kiga-geschlossen/
CATEGORIES:Ferien
END:VEVENT
END:VCALENDAR