BEGIN:VCALENDAR
VERSION:2.0
PRODID:-//Das Wurzelwerk - ECPv6.15.20//NONSGML v1.0//EN
CALSCALE:GREGORIAN
METHOD:PUBLISH
X-WR-CALNAME:Das Wurzelwerk
X-ORIGINAL-URL:http://daswurzelwerk.de
X-WR-CALDESC:Veranstaltungen für Das Wurzelwerk
REFRESH-INTERVAL;VALUE=DURATION:PT1H
X-Robots-Tag:noindex
X-PUBLISHED-TTL:PT1H
BEGIN:VTIMEZONE
TZID:Europe/Berlin
BEGIN:DAYLIGHT
TZOFFSETFROM:+0100
TZOFFSETTO:+0200
TZNAME:CEST
DTSTART:20190331T010000
END:DAYLIGHT
BEGIN:STANDARD
TZOFFSETFROM:+0200
TZOFFSETTO:+0100
TZNAME:CET
DTSTART:20191027T010000
END:STANDARD
BEGIN:DAYLIGHT
TZOFFSETFROM:+0100
TZOFFSETTO:+0200
TZNAME:CEST
DTSTART:20200329T010000
END:DAYLIGHT
BEGIN:STANDARD
TZOFFSETFROM:+0200
TZOFFSETTO:+0100
TZNAME:CET
DTSTART:20201025T010000
END:STANDARD
BEGIN:DAYLIGHT
TZOFFSETFROM:+0100
TZOFFSETTO:+0200
TZNAME:CEST
DTSTART:20210328T010000
END:DAYLIGHT
BEGIN:STANDARD
TZOFFSETFROM:+0200
TZOFFSETTO:+0100
TZNAME:CET
DTSTART:20211031T010000
END:STANDARD
END:VTIMEZONE
BEGIN:VEVENT
DTSTART;TZID=Europe/Berlin:20200226T080000
DTEND;TZID=Europe/Berlin:20200226T130000
DTSTAMP:20260420T164834
CREATED:20190930T182050Z
LAST-MODIFIED:20190930T182050Z
UID:573-1582704000-1582722000@daswurzelwerk.de
SUMMARY:Werftparktheater
DESCRIPTION:gemeinsamer Besuch des Werftparktheaters \nStück: &#8222;Zwerg Nase&#8220;
URL:http://daswurzelwerk.de/termin/werftparktheater-2/
CATEGORIES:Ausflug
END:VEVENT
END:VCALENDAR